BEGIN:VCALENDAR
VERSION:2.0
PRODID:-//hacksw/handcal//NONSGML v1.0//EN
CALSCALE:GREGORIAN
BEGIN:VEVENT
ORGANIZER;CN=Eagle Materials Inc.:MAILTO:no-reply@mail.gcs-web.com
DTEND:
UID:352464c0-9e08-472d-8067-fa3cbd92f648
DTSTAMP:1777043903
LOCATION:https://edge.media-server.com/mmc/p/gcxp6aar
DESCRIPTION:Event Details https://ir.eaglematerials.com/events/event-details/q4-2026-eagle-materials-earnings-conference-call\n\nWebcast: https://edge.media-server.com/mmc/p/gcxp6aar
URL;VALUE=URI:https://edge.media-server.com/mmc/p/gcxp6aar
SUMMARY:Eagle Materials Inc. - Q4 2026 Eagle Materials Earnings Conference Call
DTSTART:20260519T123000Z
END:VEVENT
END:VCALENDAR